BEGIN:VCALENDAR
VERSION:2.0
PRODID:-//wp-events-plugin.com//7.2.3.1//EN
TZID:Europe/Amsterdam
X-WR-TIMEZONE:Europe/Amsterdam
BEGIN:VEVENT
UID:12@theaterzondergrens.nl
DTSTART;TZID=Europe/Amsterdam:20190414T130000
DTEND;TZID=Europe/Amsterdam:20190414T163000
DTSTAMP:20190322T111755Z
URL:https://www.theaterzondergrens.nl/events/theater-zonder-grens-en-cultu
 ur-bij-je-buur/
SUMMARY:Theater Zonder Grens en Cultuur bij je buur
DESCRIPTION:Kleinschalig theater met muziek\, verhalen\, gedichten en tonee
 l\, samengebald in een half uur\, dat wordt spannend.
ATTACH;FMTTYPE=image/jpeg:https://www.theaterzondergrens.nl/wp-content/upl
 oads/2019/03/3.jpg
CATEGORIES:Locatie theater
LOCATION:Woonzorgcomplex Boszicht\, Boszichtlaan 4\, Apeldoorn\, Gelderland
 \, 7314EW\, Nederland
X-APPLE-STRUCTURED-LOCATION;VALUE=URI;X-ADDRESS=Boszichtlaan 4\, Apeldoorn\
 , Gelderland\, 7314EW\, Nederland;X-APPLE-RADIUS=100;X-TITLE=Woonzorgcompl
 ex Boszicht:geo:0,0
END:VEVENT
BEGIN:VTIMEZONE
TZID:Europe/Amsterdam
X-LIC-LOCATION:Europe/Amsterdam
BEGIN:DAYLIGHT
DTSTART:20190331T030000
TZOFFSETFROM:+0100
TZOFFSETTO:+0200
TZNAME:CEST
END:DAYLIGHT
END:VTIMEZONE
END:VCALENDAR